BEGIN:VCALENDAR
VERSION:2.0
PRODID:-//wp-events-plugin.com//7.2.3.1//EN
TZID:Europe/Berlin
X-WR-TIMEZONE:Europe/Berlin
BEGIN:VEVENT
UID:66@samariter-hitzkirch.com
DTSTART;TZID=Europe/Berlin:20260401T160000
DTEND;TZID=Europe/Berlin:20260401T200000
DTSTAMP:20251128T181140Z
URL:https://samariter-hitzkirch.com/events/blutspenden-6/
SUMMARY:Blutspenden
DESCRIPTION:Wo: Im Pfarreiheim in Hitzkirch\, Aargauerstarsse 9a\n\nMit Kin
 derhütedienst\nSpende Blut\, rette Leben\nBlut kann nach wie vor nicht k
 ünstlich hergestellt werden. Spenden Sie Blut – auch Sie könnten eines
  Tages darauf angewiesen sein!\n&nbsp\;
CATEGORIES:Blutspenden
END:VEVENT
BEGIN:VTIMEZONE
TZID:Europe/Berlin
X-LIC-LOCATION:Europe/Berlin
BEGIN:DAYLIGHT
DTSTART:20260329T030000
TZOFFSETFROM:+0100
TZOFFSETTO:+0200
TZNAME:CEST
END:DAYLIGHT
END:VTIMEZONE
END:VCALENDAR